{
 "currentVersion": 11.5,
 "cimVersion": "3.5.0",
 "serviceDescription": " OS Raster tile and OS Mastermap Web Mapping Service for basemaps<\/span><\/p><\/div><\/div>",
 "mapName": "OS_Basemaps_Standard",
 "description": "OS Raster tile and OS Mastermap Web Mapping Service for basemaps",
 "copyrightText": "",
 "supportsDynamicLayers": true,
 "layers": [
  {
   "id": 0,
   "name": "Oxfordshire_Boundary",
   "parentLayerId": -1,
   "defaultVisibility": true,
   "subLayerIds": null,
   "minScale": 0,
   "maxScale": 0,
   "type": "Feature Layer",
   "geometryType": "esriGeometryPolygon",
   "supportsDynamicLegends": true
  },
  {
   "id": 1,
   "name": "Oxfordshire_Base_Lines",
   "parentLayerId": -1,
   "defaultVisibility": true,
   "subLayerIds": null,
   "minScale": 750000,
   "maxScale": 400001,
   "type": "Feature Layer",
   "geometryType": "esriGeometryPolyline",
   "supportsDynamicLegends": true
  },
  {
   "id": 2,
   "name": "Oxfordshire_Base_Region",
   "parentLayerId": -1,
   "defaultVisibility": true,
   "subLayerIds": null,
   "minScale": 750000,
   "maxScale": 400001,
   "type": "Feature Layer",
   "geometryType": "esriGeometryPolygon",
   "supportsDynamicLegends": true
  },
  {
   "id": 3,
   "name": "Oxfordshire_Base_Text",
   "parentLayerId": -1,
   "defaultVisibility": true,
   "subLayerIds": null,
   "minScale": 750000,
   "maxScale": 400001,
   "type": "Feature Layer",
   "geometryType": "esriGeometryPoint",
   "supportsDynamicLegends": true
  },
  {
   "id": 4,
   "name": "OS_MiniScale",
   "parentLayerId": -1,
   "defaultVisibility": true,
   "subLayerIds": [
    5,
    6,
    7
   ],
   "minScale": 400000,
   "maxScale": 250001,
   "type": "Mosaic Layer",
   "supportsDynamicLegends": false
  },
  {
   "id": 5,
   "name": "Boundary",
   "parentLayerId": 4,
   "defaultVisibility": false,
   "subLayerIds": null,
   "minScale": 0,
   "maxScale": 0,
   "type": "Feature Layer",
   "geometryType": "esriGeometryPolygon",
   "supportsDynamicLegends": true
  },
  {
   "id": 6,
   "name": "Footprint",
   "parentLayerId": 4,
   "defaultVisibility": false,
   "subLayerIds": null,
   "minScale": 0,
   "maxScale": 0,
   "type": "Feature Layer",
   "geometryType": "esriGeometryPolygon",
   "supportsDynamicLegends": true
  },
  {
   "id": 7,
   "name": "Image",
   "parentLayerId": 4,
   "defaultVisibility": true,
   "subLayerIds": null,
   "minScale": 0,
   "maxScale": 0,
   "type": "Raster Layer",
   "supportsDynamicLegends": true
  },
  {
   "id": 8,
   "name": "OS_250K",
   "parentLayerId": -1,
   "defaultVisibility": true,
   "subLayerIds": [
    9,
    10,
    11
   ],
   "minScale": 250000,
   "maxScale": 40001,
   "type": "Mosaic Layer",
   "supportsDynamicLegends": false
  },
  {
   "id": 9,
   "name": "Boundary",
   "parentLayerId": 8,
   "defaultVisibility": false,
   "subLayerIds": null,
   "minScale": 0,
   "maxScale": 0,
   "type": "Feature Layer",
   "geometryType": "esriGeometryPolygon",
   "supportsDynamicLegends": true
  },
  {
   "id": 10,
   "name": "Footprint",
   "parentLayerId": 8,
   "defaultVisibility": false,
   "subLayerIds": null,
   "minScale": 0,
   "maxScale": 0,
   "type": "Feature Layer",
   "geometryType": "esriGeometryPolygon",
   "supportsDynamicLegends": true
  },
  {
   "id": 11,
   "name": "Image",
   "parentLayerId": 8,
   "defaultVisibility": true,
   "subLayerIds": null,
   "minScale": 0,
   "maxScale": 0,
   "type": "Raster Layer",
   "supportsDynamicLegends": true
  },
  {
   "id": 12,
   "name": "OS_50K",
   "parentLayerId": -1,
   "defaultVisibility": true,
   "subLayerIds": [
    13,
    14,
    15
   ],
   "minScale": 40000,
   "maxScale": 10001,
   "type": "Mosaic Layer",
   "supportsDynamicLegends": false
  },
  {
   "id": 13,
   "name": "Boundary",
   "parentLayerId": 12,
   "defaultVisibility": false,
   "subLayerIds": null,
   "minScale": 0,
   "maxScale": 0,
   "type": "Feature Layer",
   "geometryType": "esriGeometryPolygon",
   "supportsDynamicLegends": true
  },
  {
   "id": 14,
   "name": "Footprint",
   "parentLayerId": 12,
   "defaultVisibility": false,
   "subLayerIds": null,
   "minScale": 0,
   "maxScale": 0,
   "type": "Feature Layer",
   "geometryType": "esriGeometryPolygon",
   "supportsDynamicLegends": true
  },
  {
   "id": 15,
   "name": "Image",
   "parentLayerId": 12,
   "defaultVisibility": true,
   "subLayerIds": null,
   "minScale": 0,
   "maxScale": 0,
   "type": "Raster Layer",
   "supportsDynamicLegends": true
  },
  {
   "id": 16,
   "name": "OS_25K",
   "parentLayerId": -1,
   "defaultVisibility": true,
   "subLayerIds": [
    17,
    18,
    19
   ],
   "minScale": 10000,
   "maxScale": 4001,
   "type": "Mosaic Layer",
   "supportsDynamicLegends": false
  },
  {
   "id": 17,
   "name": "Boundary",
   "parentLayerId": 16,
   "defaultVisibility": false,
   "subLayerIds": null,
   "minScale": 0,
   "maxScale": 0,
   "type": "Feature Layer",
   "geometryType": "esriGeometryPolygon",
   "supportsDynamicLegends": true
  },
  {
   "id": 18,
   "name": "Footprint",
   "parentLayerId": 16,
   "defaultVisibility": false,
   "subLayerIds": null,
   "minScale": 0,
   "maxScale": 0,
   "type": "Feature Layer",
   "geometryType": "esriGeometryPolygon",
   "supportsDynamicLegends": true
  },
  {
   "id": 19,
   "name": "Image",
   "parentLayerId": 16,
   "defaultVisibility": true,
   "subLayerIds": null,
   "minScale": 0,
   "maxScale": 0,
   "type": "Raster Layer",
   "supportsDynamicLegends": true
  },
  {
   "id": 20,
   "name": "OS_VML",
   "parentLayerId": -1,
   "defaultVisibility": true,
   "subLayerIds": [
    21,
    22,
    23
   ],
   "minScale": 4000,
   "maxScale": 1501,
   "type": "Mosaic Layer",
   "supportsDynamicLegends": false
  },
  {
   "id": 21,
   "name": "Boundary",
   "parentLayerId": 20,
   "defaultVisibility": false,
   "subLayerIds": null,
   "minScale": 0,
   "maxScale": 0,
   "type": "Feature Layer",
   "geometryType": "esriGeometryPolygon",
   "supportsDynamicLegends": true
  },
  {
   "id": 22,
   "name": "Footprint",
   "parentLayerId": 20,
   "defaultVisibility": false,
   "subLayerIds": null,
   "minScale": 0,
   "maxScale": 0,
   "type": "Feature Layer",
   "geometryType": "esriGeometryPolygon",
   "supportsDynamicLegends": true
  },
  {
   "id": 23,
   "name": "Image",
   "parentLayerId": 20,
   "defaultVisibility": true,
   "subLayerIds": null,
   "minScale": 0,
   "maxScale": 0,
   "type": "Raster Layer",
   "supportsDynamicLegends": true
  },
  {
   "id": 24,
   "name": "OSMM_Topography_Layer_Standard",
   "parentLayerId": -1,
   "defaultVisibility": true,
   "subLayerIds": [
    25,
    26,
    27
   ],
   "minScale": 1500,
   "maxScale": 100,
   "type": "Group Layer",
   "supportsDynamicLegends": false
  },
  {
   "id": 25,
   "name": "CartographicText",
   "parentLayerId": 24,
   "defaultVisibility": true,
   "subLayerIds": null,
   "minScale": 0,
   "maxScale": 0,
   "type": "Feature Layer",
   "geometryType": "esriGeometryPoint",
   "supportsDynamicLegends": true
  },
  {
   "id": 26,
   "name": "TopographicLine",
   "parentLayerId": 24,
   "defaultVisibility": true,
   "subLayerIds": null,
   "minScale": 0,
   "maxScale": 0,
   "type": "Feature Layer",
   "geometryType": "esriGeometryPolyline",
   "supportsDynamicLegends": true
  },
  {
   "id": 27,
   "name": "TopographicArea",
   "parentLayerId": 24,
   "defaultVisibility": true,
   "subLayerIds": null,
   "minScale": 0,
   "maxScale": 0,
   "type": "Feature Layer",
   "geometryType": "esriGeometryPolygon",
   "supportsDynamicLegends": true
  }
 ],
 "tables": [],
 "spatialReference": {
  "wkid": 27700,
  "latestWkid": 27700,
  "xyTolerance": 0.001,
  "zTolerance": 0.001,
  "mTolerance": 0.001,
  "falseX": -5220400,
  "falseY": -15524400,
  "xyUnits": 4.5048159276709664E8,
  "falseZ": -100000,
  "zUnits": 10000,
  "falseM": -100000,
  "mUnits": 10000
 },
 "singleFusedMapCache": true,
 "tileInfo": {
  "rows": 256,
  "cols": 256,
  "dpi": 96,
  "format": "Mixed",
  "compressionQuality": 75,
  "origin": {
   "x": -9597137.348713825,
   "y": 4470073.533885086
  },
  "spatialReference": {
   "wkid": 27700,
   "latestWkid": 27700,
   "xyTolerance": 0.001,
   "zTolerance": 0.001,
   "mTolerance": 0.001,
   "falseX": -5220400,
   "falseY": -15524400,
   "xyUnits": 4.5048159276709664E8,
   "falseZ": -100000,
   "zUnits": 10000,
   "falseM": -100000,
   "mUnits": 10000
  },
  "lods": [
   {
    "level": 0,
    "resolution": 78102.63553682675,
    "scale": 2.9519106344627434E8
   },
   {
    "level": 1,
    "resolution": 39051.31776841338,
    "scale": 1.4759553172313717E8
   },
   {
    "level": 2,
    "resolution": 19525.65888420669,
    "scale": 7.379776586156859E7
   },
   {
    "level": 3,
    "resolution": 9762.829442103344,
    "scale": 3.689888293078429E7
   },
   {
    "level": 4,
    "resolution": 4881.414721051672,
    "scale": 1.8449441465392146E7
   },
   {
    "level": 5,
    "resolution": 2440.707360525836,
    "scale": 9224720.732696073
   },
   {
    "level": 6,
    "resolution": 1220.353680262918,
    "scale": 4612360.366348037
   },
   {
    "level": 7,
    "resolution": 610.176840131459,
    "scale": 2306180.1831740183
   },
   {
    "level": 8,
    "resolution": 305.0884200657295,
    "scale": 1153090.0915870091
   },
   {
    "level": 9,
    "resolution": 152.54421003286475,
    "scale": 576545.0457935046
   },
   {
    "level": 10,
    "resolution": 76.27210501643238,
    "scale": 288272.5228967523
   },
   {
    "level": 11,
    "resolution": 38.13605250821619,
    "scale": 144136.26144837614
   },
   {
    "level": 12,
    "resolution": 19.068026254108094,
    "scale": 72068.13072418807
   },
   {
    "level": 13,
    "resolution": 9.534013127054047,
    "scale": 36034.065362094036
   },
   {
    "level": 14,
    "resolution": 4.767006563527024,
    "scale": 18017.032681047018
   },
   {
    "level": 15,
    "resolution": 2.383503281763512,
    "scale": 9008.516340523509
   },
   {
    "level": 16,
    "resolution": 1.191751640881756,
    "scale": 4504.2581702617545
   },
   {
    "level": 17,
    "resolution": 0.595875820440878,
    "scale": 2252.1290851308772
   },
   {
    "level": 18,
    "resolution": 0.297937910220439,
    "scale": 1126.0645425654386
   }
  ]
 },
 "storageInfo": {
  "storageFormat": "esriMapCacheStorageModeCompactV2",
  "packetSize": 128
 },
 "initialExtent": {
  "xmin": 452441.8649285485,
  "ymin": 206009.63302130424,
  "xmax": 452669.19538320944,
  "ymax": 206193.99505669498,
  "spatialReference": {
   "wkid": 27700,
   "latestWkid": 27700,
   "xyTolerance": 0.001,
   "zTolerance": 0.001,
   "mTolerance": 0.001,
   "falseX": -5220400,
   "falseY": -15524400,
   "xyUnits": 4.5048159276709664E8,
   "falseZ": -100000,
   "zUnits": 10000,
   "falseM": -100000,
   "mUnits": 10000
  }
 },
 "fullExtent": {
  "xmin": 415314.5716096619,
  "ymin": 171480.07482414448,
  "xmax": 484866.65113556903,
  "ymax": 254336.30515525083,
  "spatialReference": {
   "wkid": 27700,
   "latestWkid": 27700,
   "xyTolerance": 0.001,
   "zTolerance": 0.001,
   "mTolerance": 0.001,
   "falseX": -5220400,
   "falseY": -15524400,
   "xyUnits": 4.5048159276709664E8,
   "falseZ": -100000,
   "zUnits": 10000,
   "falseM": -100000,
   "mUnits": 10000
  }
 },
 "datesInUnknownTimezone": false,
 "minScale": 2.9519106344627434E8,
 "maxScale": 1126.0645425654386,
 "units": "esriMeters",
 "supportedImageFormatTypes": "PNG32,PNG24,PNG,JPG,DIB,TIFF,EMF,PS,PDF,GIF,SVG,SVGZ,BMP",
 "documentInfo": {
  "Title": "OS Standard Basemap",
  "Author": "",
  "Comments": "OS Raster tile and OS Mastermap Web Mapping Service for basemaps",
  "Subject": "WMS used in Esri basemaps",
  "Category": "",
  "Version": "3.2.0",
  "AntialiasingMode": "Fast",
  "TextAntialiasingMode": "Force",
  "Keywords": "Oxfordshire County Council,Basemap,Mastermap"
 },
 "supportsQueryDomains": true,
 "capabilities": "Map,Query,Data",
 "supportedQueryFormats": "JSON, geoJSON, PBF",
 "exportTilesAllowed": false,
 "referenceScale": 2000.0,
 "datumTransformations": [
  {
   "geoTransforms": [
    {
     "wkid": 108001,
     "latestWkid": 1241,
     "transformForward": true,
     "name": "NAD_1927_To_NAD_1983_NADCON"
    }
   ]
  },
  {
   "geoTransforms": [
    {
     "wkid": 108001,
     "latestWkid": 1241,
     "transformForward": false,
     "name": "NAD_1927_To_NAD_1983_NADCON"
    }
   ]
  },
  {
   "geoTransforms": [
    {
     "wkid": 1314,
     "latestWkid": 1314,
     "transformForward": true,
     "name": "OSGB_1936_To_WGS_1984_Petroleum"
    }
   ]
  },
  {
   "geoTransforms": [
    {
     "wkid": 1314,
     "latestWkid": 1314,
     "transformForward": false,
     "name": "OSGB_1936_To_WGS_1984_Petroleum"
    }
   ]
  }
 ],
 "supportsDatumTransformation": true,
 "floorAwareMapProperties": {
  "defaultFloorFilterSettings": {
   "isEnabled": false
  }
 },
 "archivingInfo": {
  "supportsHistoricMoment": false
 },
 "supportsClipping": true,
 "supportsSpatialFilter": true,
 "supportsTimeRelation": true,
 "supportsQueryDataElements": true,
 "mapUnits": {
  "uwkid": 9001
 },
 "maxSelectionCount": 2000,
 "maxRecordCount": 2000,
 "maxImageHeight": 4096,
 "maxImageWidth": 4096,
 "supportedExtensions": "WMSServer"
}
